BEGIN:VCALENDAR
VERSION:2.0
PRODID:-//Upper Deverills - ECPv6.15.18//NONSGML v1.0//EN
CALSCALE:GREGORIAN
METHOD:PUBLISH
X-WR-CALNAME:Upper Deverills
X-ORIGINAL-URL:https://www.upperdeverills.co.uk
X-WR-CALDESC:Events for Upper Deverills
REFRESH-INTERVAL;VALUE=DURATION:PT1H
X-Robots-Tag:noindex
X-PUBLISHED-TTL:PT1H
BEGIN:VTIMEZONE
TZID:Europe/London
BEGIN:STANDARD
TZOFFSETFROM:+0100
TZOFFSETTO:+0000
TZNAME:GMT
DTSTART:19711031T020000
END:STANDARD
BEGIN:DAYLIGHT
TZOFFSETFROM:+0000
TZOFFSETTO:+0100
TZNAME:BST
DTSTART:19720319T020000
END:DAYLIGHT
BEGIN:STANDARD
TZOFFSETFROM:+0100
TZOFFSETTO:+0000
TZNAME:GMT
DTSTART:19721029T020000
END:STANDARD
BEGIN:DAYLIGHT
TZOFFSETFROM:+0000
TZOFFSETTO:+0100
TZNAME:BST
DTSTART:19730318T020000
END:DAYLIGHT
BEGIN:STANDARD
TZOFFSETFROM:+0100
TZOFFSETTO:+0000
TZNAME:GMT
DTSTART:19731028T020000
END:STANDARD
BEGIN:DAYLIGHT
TZOFFSETFROM:+0000
TZOFFSETTO:+0100
TZNAME:BST
DTSTART:19740317T020000
END:DAYLIGHT
BEGIN:STANDARD
TZOFFSETFROM:+0100
TZOFFSETTO:+0000
TZNAME:GMT
DTSTART:19741027T020000
END:STANDARD
BEGIN:DAYLIGHT
TZOFFSETFROM:+0000
TZOFFSETTO:+0100
TZNAME:BST
DTSTART:19750316T020000
END:DAYLIGHT
BEGIN:STANDARD
TZOFFSETFROM:+0100
TZOFFSETTO:+0000
TZNAME:GMT
DTSTART:19751026T020000
END:STANDARD
BEGIN:DAYLIGHT
TZOFFSETFROM:+0000
TZOFFSETTO:+0100
TZNAME:BST
DTSTART:19760321T020000
END:DAYLIGHT
BEGIN:STANDARD
TZOFFSETFROM:+0100
TZOFFSETTO:+0000
TZNAME:GMT
DTSTART:19761024T020000
END:STANDARD
BEGIN:DAYLIGHT
TZOFFSETFROM:+0000
TZOFFSETTO:+0100
TZNAME:BST
DTSTART:19770320T020000
END:DAYLIGHT
BEGIN:STANDARD
TZOFFSETFROM:+0100
TZOFFSETTO:+0000
TZNAME:GMT
DTSTART:19771023T020000
END:STANDARD
BEGIN:DAYLIGHT
TZOFFSETFROM:+0000
TZOFFSETTO:+0100
TZNAME:BST
DTSTART:19780319T020000
END:DAYLIGHT
BEGIN:STANDARD
TZOFFSETFROM:+0100
TZOFFSETTO:+0000
TZNAME:GMT
DTSTART:19781029T020000
END:STANDARD
BEGIN:DAYLIGHT
TZOFFSETFROM:+0000
TZOFFSETTO:+0100
TZNAME:BST
DTSTART:19790318T020000
END:DAYLIGHT
BEGIN:STANDARD
TZOFFSETFROM:+0100
TZOFFSETTO:+0000
TZNAME:GMT
DTSTART:19791028T020000
END:STANDARD
BEGIN:DAYLIGHT
TZOFFSETFROM:+0000
TZOFFSETTO:+0100
TZNAME:BST
DTSTART:19800316T020000
END:DAYLIGHT
BEGIN:STANDARD
TZOFFSETFROM:+0100
TZOFFSETTO:+0000
TZNAME:GMT
DTSTART:19801026T020000
END:STANDARD
BEGIN:DAYLIGHT
TZOFFSETFROM:+0000
TZOFFSETTO:+0100
TZNAME:BST
DTSTART:19810329T010000
END:DAYLIGHT
BEGIN:STANDARD
TZOFFSETFROM:+0100
TZOFFSETTO:+0000
TZNAME:GMT
DTSTART:19811025T010000
END:STANDARD
BEGIN:DAYLIGHT
TZOFFSETFROM:+0000
TZOFFSETTO:+0100
TZNAME:BST
DTSTART:19820328T010000
END:DAYLIGHT
BEGIN:STANDARD
TZOFFSETFROM:+0100
TZOFFSETTO:+0000
TZNAME:GMT
DTSTART:19821024T010000
END:STANDARD
BEGIN:DAYLIGHT
TZOFFSETFROM:+0000
TZOFFSETTO:+0100
TZNAME:BST
DTSTART:19830327T010000
END:DAYLIGHT
BEGIN:STANDARD
TZOFFSETFROM:+0100
TZOFFSETTO:+0000
TZNAME:GMT
DTSTART:19831023T010000
END:STANDARD
BEGIN:DAYLIGHT
TZOFFSETFROM:+0000
TZOFFSETTO:+0100
TZNAME:BST
DTSTART:19840325T010000
END:DAYLIGHT
BEGIN:STANDARD
TZOFFSETFROM:+0100
TZOFFSETTO:+0000
TZNAME:GMT
DTSTART:19841028T010000
END:STANDARD
BEGIN:DAYLIGHT
TZOFFSETFROM:+0000
TZOFFSETTO:+0100
TZNAME:BST
DTSTART:19850331T010000
END:DAYLIGHT
BEGIN:STANDARD
TZOFFSETFROM:+0100
TZOFFSETTO:+0000
TZNAME:GMT
DTSTART:19851027T010000
END:STANDARD
BEGIN:DAYLIGHT
TZOFFSETFROM:+0000
TZOFFSETTO:+0100
TZNAME:BST
DTSTART:19860330T010000
END:DAYLIGHT
BEGIN:STANDARD
TZOFFSETFROM:+0100
TZOFFSETTO:+0000
TZNAME:GMT
DTSTART:19861026T010000
END:STANDARD
BEGIN:DAYLIGHT
TZOFFSETFROM:+0000
TZOFFSETTO:+0100
TZNAME:BST
DTSTART:19870329T010000
END:DAYLIGHT
BEGIN:STANDARD
TZOFFSETFROM:+0100
TZOFFSETTO:+0000
TZNAME:GMT
DTSTART:19871025T010000
END:STANDARD
BEGIN:DAYLIGHT
TZOFFSETFROM:+0000
TZOFFSETTO:+0100
TZNAME:BST
DTSTART:19880327T010000
END:DAYLIGHT
BEGIN:STANDARD
TZOFFSETFROM:+0100
TZOFFSETTO:+0000
TZNAME:GMT
DTSTART:19881023T010000
END:STANDARD
BEGIN:DAYLIGHT
TZOFFSETFROM:+0000
TZOFFSETTO:+0100
TZNAME:BST
DTSTART:19890326T010000
END:DAYLIGHT
BEGIN:STANDARD
TZOFFSETFROM:+0100
TZOFFSETTO:+0000
TZNAME:GMT
DTSTART:19891029T010000
END:STANDARD
BEGIN:DAYLIGHT
TZOFFSETFROM:+0000
TZOFFSETTO:+0100
TZNAME:BST
DTSTART:19900325T010000
END:DAYLIGHT
BEGIN:STANDARD
TZOFFSETFROM:+0100
TZOFFSETTO:+0000
TZNAME:GMT
DTSTART:19901028T010000
END:STANDARD
BEGIN:DAYLIGHT
TZOFFSETFROM:+0000
TZOFFSETTO:+0100
TZNAME:BST
DTSTART:19910331T010000
END:DAYLIGHT
BEGIN:STANDARD
TZOFFSETFROM:+0100
TZOFFSETTO:+0000
TZNAME:GMT
DTSTART:19911027T010000
END:STANDARD
BEGIN:DAYLIGHT
TZOFFSETFROM:+0000
TZOFFSETTO:+0100
TZNAME:BST
DTSTART:19920329T010000
END:DAYLIGHT
BEGIN:STANDARD
TZOFFSETFROM:+0100
TZOFFSETTO:+0000
TZNAME:GMT
DTSTART:19921025T010000
END:STANDARD
BEGIN:DAYLIGHT
TZOFFSETFROM:+0000
TZOFFSETTO:+0100
TZNAME:BST
DTSTART:19930328T010000
END:DAYLIGHT
BEGIN:STANDARD
TZOFFSETFROM:+0100
TZOFFSETTO:+0000
TZNAME:GMT
DTSTART:19931024T010000
END:STANDARD
BEGIN:DAYLIGHT
TZOFFSETFROM:+0000
TZOFFSETTO:+0100
TZNAME:BST
DTSTART:19940327T010000
END:DAYLIGHT
BEGIN:STANDARD
TZOFFSETFROM:+0100
TZOFFSETTO:+0000
TZNAME:GMT
DTSTART:19941023T010000
END:STANDARD
BEGIN:DAYLIGHT
TZOFFSETFROM:+0000
TZOFFSETTO:+0100
TZNAME:BST
DTSTART:19950326T010000
END:DAYLIGHT
BEGIN:STANDARD
TZOFFSETFROM:+0100
TZOFFSETTO:+0000
TZNAME:GMT
DTSTART:19951022T010000
END:STANDARD
BEGIN:DAYLIGHT
TZOFFSETFROM:+0000
TZOFFSETTO:+0100
TZNAME:BST
DTSTART:19960331T010000
END:DAYLIGHT
BEGIN:STANDARD
TZOFFSETFROM:+0100
TZOFFSETTO:+0000
TZNAME:GMT
DTSTART:19961027T010000
END:STANDARD
BEGIN:DAYLIGHT
TZOFFSETFROM:+0000
TZOFFSETTO:+0100
TZNAME:BST
DTSTART:19970330T010000
END:DAYLIGHT
BEGIN:STANDARD
TZOFFSETFROM:+0100
TZOFFSETTO:+0000
TZNAME:GMT
DTSTART:19971026T010000
END:STANDARD
BEGIN:DAYLIGHT
TZOFFSETFROM:+0000
TZOFFSETTO:+0100
TZNAME:BST
DTSTART:19980329T010000
END:DAYLIGHT
BEGIN:STANDARD
TZOFFSETFROM:+0100
TZOFFSETTO:+0000
TZNAME:GMT
DTSTART:19981025T010000
END:STANDARD
BEGIN:DAYLIGHT
TZOFFSETFROM:+0000
TZOFFSETTO:+0100
TZNAME:BST
DTSTART:19990328T010000
END:DAYLIGHT
BEGIN:STANDARD
TZOFFSETFROM:+0100
TZOFFSETTO:+0000
TZNAME:GMT
DTSTART:19991031T010000
END:STANDARD
BEGIN:DAYLIGHT
TZOFFSETFROM:+0000
TZOFFSETTO:+0100
TZNAME:BST
DTSTART:20000326T010000
END:DAYLIGHT
BEGIN:STANDARD
TZOFFSETFROM:+0100
TZOFFSETTO:+0000
TZNAME:GMT
DTSTART:20001029T010000
END:STANDARD
BEGIN:DAYLIGHT
TZOFFSETFROM:+0000
TZOFFSETTO:+0100
TZNAME:BST
DTSTART:20010325T010000
END:DAYLIGHT
BEGIN:STANDARD
TZOFFSETFROM:+0100
TZOFFSETTO:+0000
TZNAME:GMT
DTSTART:20011028T010000
END:STANDARD
BEGIN:DAYLIGHT
TZOFFSETFROM:+0000
TZOFFSETTO:+0100
TZNAME:BST
DTSTART:20020331T010000
END:DAYLIGHT
BEGIN:STANDARD
TZOFFSETFROM:+0100
TZOFFSETTO:+0000
TZNAME:GMT
DTSTART:20021027T010000
END:STANDARD
BEGIN:DAYLIGHT
TZOFFSETFROM:+0000
TZOFFSETTO:+0100
TZNAME:BST
DTSTART:20030330T010000
END:DAYLIGHT
BEGIN:STANDARD
TZOFFSETFROM:+0100
TZOFFSETTO:+0000
TZNAME:GMT
DTSTART:20031026T010000
END:STANDARD
BEGIN:DAYLIGHT
TZOFFSETFROM:+0000
TZOFFSETTO:+0100
TZNAME:BST
DTSTART:20040328T010000
END:DAYLIGHT
BEGIN:STANDARD
TZOFFSETFROM:+0100
TZOFFSETTO:+0000
TZNAME:GMT
DTSTART:20041031T010000
END:STANDARD
BEGIN:DAYLIGHT
TZOFFSETFROM:+0000
TZOFFSETTO:+0100
TZNAME:BST
DTSTART:20050327T010000
END:DAYLIGHT
BEGIN:STANDARD
TZOFFSETFROM:+0100
TZOFFSETTO:+0000
TZNAME:GMT
DTSTART:20051030T010000
END:STANDARD
BEGIN:DAYLIGHT
TZOFFSETFROM:+0000
TZOFFSETTO:+0100
TZNAME:BST
DTSTART:20060326T010000
END:DAYLIGHT
BEGIN:STANDARD
TZOFFSETFROM:+0100
TZOFFSETTO:+0000
TZNAME:GMT
DTSTART:20061029T010000
END:STANDARD
BEGIN:DAYLIGHT
TZOFFSETFROM:+0000
TZOFFSETTO:+0100
TZNAME:BST
DTSTART:20070325T010000
END:DAYLIGHT
BEGIN:STANDARD
TZOFFSETFROM:+0100
TZOFFSETTO:+0000
TZNAME:GMT
DTSTART:20071028T010000
END:STANDARD
BEGIN:DAYLIGHT
TZOFFSETFROM:+0000
TZOFFSETTO:+0100
TZNAME:BST
DTSTART:20080330T010000
END:DAYLIGHT
BEGIN:STANDARD
TZOFFSETFROM:+0100
TZOFFSETTO:+0000
TZNAME:GMT
DTSTART:20081026T010000
END:STANDARD
BEGIN:DAYLIGHT
TZOFFSETFROM:+0000
TZOFFSETTO:+0100
TZNAME:BST
DTSTART:20090329T010000
END:DAYLIGHT
BEGIN:STANDARD
TZOFFSETFROM:+0100
TZOFFSETTO:+0000
TZNAME:GMT
DTSTART:20091025T010000
END:STANDARD
BEGIN:DAYLIGHT
TZOFFSETFROM:+0000
TZOFFSETTO:+0100
TZNAME:BST
DTSTART:20100328T010000
END:DAYLIGHT
BEGIN:STANDARD
TZOFFSETFROM:+0100
TZOFFSETTO:+0000
TZNAME:GMT
DTSTART:20101031T010000
END:STANDARD
BEGIN:DAYLIGHT
TZOFFSETFROM:+0000
TZOFFSETTO:+0100
TZNAME:BST
DTSTART:20110327T010000
END:DAYLIGHT
BEGIN:STANDARD
TZOFFSETFROM:+0100
TZOFFSETTO:+0000
TZNAME:GMT
DTSTART:20111030T010000
END:STANDARD
BEGIN:DAYLIGHT
TZOFFSETFROM:+0000
TZOFFSETTO:+0100
TZNAME:BST
DTSTART:20120325T010000
END:DAYLIGHT
BEGIN:STANDARD
TZOFFSETFROM:+0100
TZOFFSETTO:+0000
TZNAME:GMT
DTSTART:20121028T010000
END:STANDARD
BEGIN:DAYLIGHT
TZOFFSETFROM:+0000
TZOFFSETTO:+0100
TZNAME:BST
DTSTART:20130331T010000
END:DAYLIGHT
BEGIN:STANDARD
TZOFFSETFROM:+0100
TZOFFSETTO:+0000
TZNAME:GMT
DTSTART:20131027T010000
END:STANDARD
BEGIN:DAYLIGHT
TZOFFSETFROM:+0000
TZOFFSETTO:+0100
TZNAME:BST
DTSTART:20140330T010000
END:DAYLIGHT
BEGIN:STANDARD
TZOFFSETFROM:+0100
TZOFFSETTO:+0000
TZNAME:GMT
DTSTART:20141026T010000
END:STANDARD
BEGIN:DAYLIGHT
TZOFFSETFROM:+0000
TZOFFSETTO:+0100
TZNAME:BST
DTSTART:20150329T010000
END:DAYLIGHT
BEGIN:STANDARD
TZOFFSETFROM:+0100
TZOFFSETTO:+0000
TZNAME:GMT
DTSTART:20151025T010000
END:STANDARD
BEGIN:DAYLIGHT
TZOFFSETFROM:+0000
TZOFFSETTO:+0100
TZNAME:BST
DTSTART:20160327T010000
END:DAYLIGHT
BEGIN:STANDARD
TZOFFSETFROM:+0100
TZOFFSETTO:+0000
TZNAME:GMT
DTSTART:20161030T010000
END:STANDARD
BEGIN:DAYLIGHT
TZOFFSETFROM:+0000
TZOFFSETTO:+0100
TZNAME:BST
DTSTART:20170326T010000
END:DAYLIGHT
BEGIN:STANDARD
TZOFFSETFROM:+0100
TZOFFSETTO:+0000
TZNAME:GMT
DTSTART:20171029T010000
END:STANDARD
BEGIN:DAYLIGHT
TZOFFSETFROM:+0000
TZOFFSETTO:+0100
TZNAME:BST
DTSTART:20180325T010000
END:DAYLIGHT
BEGIN:STANDARD
TZOFFSETFROM:+0100
TZOFFSETTO:+0000
TZNAME:GMT
DTSTART:20181028T010000
END:STANDARD
BEGIN:DAYLIGHT
TZOFFSETFROM:+0000
TZOFFSETTO:+0100
TZNAME:BST
DTSTART:20190331T010000
END:DAYLIGHT
BEGIN:STANDARD
TZOFFSETFROM:+0100
TZOFFSETTO:+0000
TZNAME:GMT
DTSTART:20191027T010000
END:STANDARD
BEGIN:DAYLIGHT
TZOFFSETFROM:+0000
TZOFFSETTO:+0100
TZNAME:BST
DTSTART:20200329T010000
END:DAYLIGHT
BEGIN:STANDARD
TZOFFSETFROM:+0100
TZOFFSETTO:+0000
TZNAME:GMT
DTSTART:20201025T010000
END:STANDARD
BEGIN:DAYLIGHT
TZOFFSETFROM:+0000
TZOFFSETTO:+0100
TZNAME:BST
DTSTART:20210328T010000
END:DAYLIGHT
BEGIN:STANDARD
TZOFFSETFROM:+0100
TZOFFSETTO:+0000
TZNAME:GMT
DTSTART:20211031T010000
END:STANDARD
END:VTIMEZONE
BEGIN:VEVENT
DTSTART;TZID=Europe/London:20201220T180000
DTEND;TZID=Europe/London:20201220T190000
DTSTAMP:20260420T072030
CREATED:20200823T122251Z
LAST-MODIFIED:20201210T105539Z
UID:12849-1608487200-1608490800@www.upperdeverills.co.uk
SUMMARY:Community Carol Service
DESCRIPTION:Outdoor carol service at The George Inn field\, Longbridge Deverill
URL:https://www.upperdeverills.co.uk/event/village-carol-service/
LOCATION:The George Inn\, Longbridge Deverill
CATEGORIES:Village Hall
END:VEVENT
BEGIN:VEVENT
DTSTART;TZID=Europe/London:20201219T160000
DTEND;TZID=Europe/London:20201219T173000
DTSTAMP:20260420T072030
CREATED:20200823T122142Z
LAST-MODIFIED:20201210T110020Z
UID:12846-1608393600-1608399000@www.upperdeverills.co.uk
SUMMARY:Village Hall Children's Christmas Party
DESCRIPTION:Subject to prevailing restrictions
URL:https://www.upperdeverills.co.uk/event/village-hall-christmas-party/
LOCATION:Village Hall
CATEGORIES:Village Hall
END:VEVENT
BEGIN:VEVENT
DTSTART;TZID=Europe/London:20201211T193000
DTEND;TZID=Europe/London:20201211T213000
DTSTAMP:20260420T072030
CREATED:20201116T123446Z
LAST-MODIFIED:20201210T110212Z
UID:13874-1607715000-1607722200@www.upperdeverills.co.uk
SUMMARY:Upper Deverills Village Hall Quiz Night – postponed
DESCRIPTION:We have a great quiz all ready to go but\, unfortunately\, we will not be able to hold it on Friday 11 December because we will all still be in Tier 2. However\, we are determined to hold the quiz just as soon as we are allowed. In practice this is likely to mean the very first Friday after we move to Tier 1\, whenever that might be.\nIf you are interested in taking part in the quiz\, please send an email to upperdeverillsvillagehall@gmail.com. We will add your name to the quiz mailing list. Then we can get in touch with you directly when we have set the date.
URL:https://www.upperdeverills.co.uk/event/quiz-night/
END:VEVENT
BEGIN:VEVENT
DTSTART;TZID=Europe/London:20201111T190000
DTEND;TZID=Europe/London:20201111T190000
DTSTAMP:20260420T072030
CREATED:20200518T180206Z
LAST-MODIFIED:20201014T123050Z
UID:11190-1605121200-1605121200@www.upperdeverills.co.uk
SUMMARY:Parish Council meeting
DESCRIPTION:The meeting will be held online. Members of the public are welcome to attend. The joining link will be: https://us02web.zoom.us/j/82863355851?pwd=aHhNbWx5S3NWZU1BQzdmMGZPak9yZz09
URL:https://www.upperdeverills.co.uk/event/parish-council-meeting/
LOCATION:Possibly online
CATEGORIES:Parish Council Meetings
ORGANIZER;CN="Upper Deverills Parish Council":MAILTO:clerk@upperdeverills.co.uk
END:VEVENT
BEGIN:VEVENT
DTSTART;TZID=Europe/London:20201108T105000
DTEND;TZID=Europe/London:20201108T120000
DTSTAMP:20260420T072030
CREATED:20200427T080104Z
LAST-MODIFIED:20200427T080104Z
UID:10771-1604832600-1604836800@www.upperdeverills.co.uk
SUMMARY:Remembrance Day service
DESCRIPTION:
URL:https://www.upperdeverills.co.uk/event/remembrance-day-service/
LOCATION:St Mary’s church\, Kingston Deverill\, Wiltshire\, BA12 7HE\, United Kingdom
END:VEVENT
BEGIN:VEVENT
DTSTART;TZID=Europe/London:20201021T200000
DTEND;TZID=Europe/London:20201021T200000
DTSTAMP:20260420T072030
CREATED:20201014T111910Z
LAST-MODIFIED:20201014T123603Z
UID:13615-1603310400-1603310400@www.upperdeverills.co.uk
SUMMARY:Extraordinary Parish Council meeting
DESCRIPTION:Extraordinary meeting to co-opt councillors to fill vacancies together with some routine matters. The meeting will be held online. Members of the public are welcome to attend. The joining link will be: \nhttps://us02web.zoom.us/j/86448249007?pwd=MGV4RC8zMS8zc1FrbFpVcGRsYzlpZz09 \nMeeting ID: 864 4824 9007\nPasscode: 9WbYCU
URL:https://www.upperdeverills.co.uk/event/extraordinary-parish-council-meeting/
LOCATION:Online
CATEGORIES:Parish Council Meetings
ORGANIZER;CN="Upper Deverills Parish Council":MAILTO:clerk@upperdeverills.co.uk
END:VEVENT
BEGIN:VEVENT
DTSTART;TZID=Europe/London:20201019T113000
DTEND;TZID=Europe/London:20201019T130000
DTSTAMP:20260420T072030
CREATED:20200823T120445Z
LAST-MODIFIED:20200922T152855Z
UID:12821-1603107000-1603112400@www.upperdeverills.co.uk
SUMMARY:Community Coffee Morning
DESCRIPTION:The coffee mornings are for everyone of all ages\, twice a month in the comfortable surroundings of The George Inn. Call Judy Munro (01985 844385) for details.
URL:https://www.upperdeverills.co.uk/event/community-coffee-morning/
LOCATION:The George Inn\, Longbridge Deverill
CATEGORIES:General
END:VEVENT
BEGIN:VEVENT
DTSTART;TZID=Europe/London:20201007T113000
DTEND;TZID=Europe/London:20201007T130000
DTSTAMP:20260420T072030
CREATED:20200823T121111Z
LAST-MODIFIED:20200922T152753Z
UID:12832-1602070200-1602075600@www.upperdeverills.co.uk
SUMMARY:Community Coffee Morning
DESCRIPTION:The coffee mornings are for everyone of all ages\, twice a month in the comfortable surroundings of The George Inn. Call Judy Munro (01985 844385) for details.
URL:https://www.upperdeverills.co.uk/event/community-coffee-morning-2/
LOCATION:The George Inn\, Longbridge Deverill
CATEGORIES:General
END:VEVENT
BEGIN:VEVENT
DTSTART;TZID=Europe/London:20200921T120000
DTEND;TZID=Europe/London:20200927T160000
DTSTAMP:20260420T072030
CREATED:20200823T114123Z
LAST-MODIFIED:20200823T132826Z
UID:12798-1600689600-1601222400@www.upperdeverills.co.uk
SUMMARY:Luke Piper Art Exhibition
DESCRIPTION:Local artist Luke Piper will be showing his Planet Paintings\, painted during lockdown this year\, at Penhill Barn from September 21st to 27th\, from 11am to 3pm daily. Penhill barn is located on the valley road just outside Monkton Deverill heading towards the A350.  As John Piper’s grandson and Edward Piper’s son\, Luke continues a long family artistic tradition.
URL:https://www.upperdeverills.co.uk/event/luke-piper-art-exhibition/
LOCATION:Pen Hill Barn\, Monkton Deverill\, Google Maps: 4RH6+P8
CATEGORIES:General
END:VEVENT
BEGIN:VEVENT
DTSTART;TZID=Europe/London:20200916T200000
DTEND;TZID=Europe/London:20200916T200000
DTSTAMP:20260420T072030
CREATED:20200518T180226Z
LAST-MODIFIED:20200820T103820Z
UID:11192-1600286400-1600286400@www.upperdeverills.co.uk
SUMMARY:Parish Council meeting
DESCRIPTION:This meeting will be held online. Members of the public are welcome to attend. The Zoom joining link is https://us02web.zoom.us/j/86202127608?pwd=d1pRVDRqdFlHaXBINzlFWHY2Wi9Gdz09 
URL:https://www.upperdeverills.co.uk/event/parish-council-meeting-2/
LOCATION:Online
CATEGORIES:Parish Council Meetings
ORGANIZER;CN="Upper Deverills Parish Council":MAILTO:clerk@upperdeverills.co.uk
END:VEVENT
BEGIN:VEVENT
DTSTART;VALUE=DATE:20200822
DTEND;VALUE=DATE:20200825
DTSTAMP:20260420T072030
CREATED:20200729T123552Z
LAST-MODIFIED:20200729T123552Z
UID:12220-1598058000-1598230799@www.upperdeverills.co.uk
SUMMARY:Decorate our villages
DESCRIPTION:
URL:https://www.upperdeverills.co.uk/event/decorate-our-villages/
LOCATION:All villages
CATEGORIES:Village Hall
END:VEVENT
BEGIN:VEVENT
DTSTART;VALUE=DATE:20200815
DTEND;VALUE=DATE:20200818
DTSTAMP:20260420T072030
CREATED:20200424T112446Z
LAST-MODIFIED:20200729T123300Z
UID:10639-1597453200-1597625999@www.upperdeverills.co.uk
SUMMARY:VE & VJ Days Celebrations - CANCELLED
DESCRIPTION:
URL:https://www.upperdeverills.co.uk/event/ve-vj-days-celebrations/
LOCATION:Village Hall
END:VEVENT
BEGIN:VEVENT
DTSTART;TZID=Europe/London:20200731T170000
DTEND;TZID=Europe/London:20200731T220000
DTSTAMP:20260420T072030
CREATED:20200421T125046Z
LAST-MODIFIED:20200712T165531Z
UID:10480-1596214800-1596232800@www.upperdeverills.co.uk
SUMMARY:Pub Night - CANCELLED
DESCRIPTION:
URL:https://www.upperdeverills.co.uk/event/upper-deverills-hall-pub-night/
LOCATION:Village Hall
END:VEVENT
BEGIN:VEVENT
DTSTART;TZID=Europe/London:20200718T150000
DTEND;TZID=Europe/London:20200718T180000
DTSTAMP:20260420T072030
CREATED:20200504T145812Z
LAST-MODIFIED:20200504T145818Z
UID:10897-1595084400-1595095200@www.upperdeverills.co.uk
SUMMARY:Upper Deverills Summer Flower Show and Fete – CANCELLED
DESCRIPTION:
URL:https://www.upperdeverills.co.uk/event/upper-deverills-summer-flower-show-and-fete-cancelled/
END:VEVENT
BEGIN:VEVENT
DTSTART;TZID=Europe/London:20200708T200000
DTEND;TZID=Europe/London:20200708T200000
DTSTAMP:20260420T072030
CREATED:20200518T180243Z
LAST-MODIFIED:20200622T160157Z
UID:11194-1594238400-1594238400@www.upperdeverills.co.uk
SUMMARY:Parish Council meeting
DESCRIPTION:This meeting will be held online. Members of the public are welcome to attend. Please contact the clerk.
URL:https://www.upperdeverills.co.uk/event/parish-council-meeting-3/
LOCATION:Online
CATEGORIES:Parish Council Meetings
ORGANIZER;CN="Upper Deverills Parish Council":MAILTO:clerk@upperdeverills.co.uk
END:VEVENT
BEGIN:VEVENT
DTSTART;TZID=Europe/London:20200626T190000
DTEND;TZID=Europe/London:20200627T000000
DTSTAMP:20260420T072030
CREATED:20200424T112207Z
LAST-MODIFIED:20200504T145445Z
UID:10636-1593198000-1593216000@www.upperdeverills.co.uk
SUMMARY:Pub Night (pending Government guidance)
DESCRIPTION:(Depending on Government guidelines)
URL:https://www.upperdeverills.co.uk/event/pub-night/
LOCATION:Village Hall
END:VEVENT
BEGIN:VEVENT
DTSTART;TZID=Europe/London:20200520T200000
DTEND;TZID=Europe/London:20200520T220000
DTSTAMP:20260420T072030
CREATED:20200419T070800Z
LAST-MODIFIED:20200513T152403Z
UID:10202-1590004800-1590012000@www.upperdeverills.co.uk
SUMMARY:Upper Deverills Parish Council meeting
DESCRIPTION:Online Zoom meeting of the Parish Council. \nAgenda \nIf you would like to attend please contact the Parish Clerk.
URL:https://www.upperdeverills.co.uk/event/upper-deverills-parish-council-meeting/
ORGANIZER;CN="Upper Deverills Parish Council":MAILTO:clerk@upperdeverills.co.uk
END:VEVENT
BEGIN:VEVENT
DTSTART;TZID=Europe/London:20200514T210000
DTEND;TZID=Europe/London:20200514T210000
DTSTAMP:20260420T072030
CREATED:20200427T081304Z
LAST-MODIFIED:20200427T081304Z
UID:10806-1589490000-1589490000@www.upperdeverills.co.uk
SUMMARY:Clap for Carers
DESCRIPTION:
URL:https://www.upperdeverills.co.uk/event/clap-for-carers-5/
END:VEVENT
BEGIN:VEVENT
DTSTART;TZID=Europe/London:20200513T200000
DTEND;TZID=Europe/London:20200513T200000
DTSTAMP:20260420T072030
CREATED:20200512T164648Z
LAST-MODIFIED:20200512T164648Z
UID:10995-1589400000-1589400000@www.upperdeverills.co.uk
SUMMARY:Annual Parish and Parish Council meetings CANCELLED
DESCRIPTION:Due to the Coronavirus situation\, the Annual Parish Meeting and the Annual Meeting of the Parish Council have both been cancelled
URL:https://www.upperdeverills.co.uk/event/annual-parish-and-parish-council-meetings-cancelled-2/
LOCATION:Village Hall
CATEGORIES:Parish Council Meetings
ORGANIZER;CN="Upper Deverills Parish Council":MAILTO:clerk@upperdeverills.co.uk
END:VEVENT
BEGIN:VEVENT
DTSTART;TZID=Europe/London:20200513T193000
DTEND;TZID=Europe/London:20200513T213000
DTSTAMP:20260420T072030
CREATED:20200429T095114Z
LAST-MODIFIED:20200429T095114Z
UID:10829-1589398200-1589405400@www.upperdeverills.co.uk
SUMMARY:Annual Parish and Parish Council Meetings - CANCELLED
DESCRIPTION:Due to the Coronavirus outbreak\, the Annual Meeting of the Parish and the Parish Council Annual Meeting have both been cancelled
URL:https://www.upperdeverills.co.uk/event/annual-parish-and-parish-council-meetings-cancelled/
ORGANIZER;CN="Upper Deverills Parish Council":MAILTO:clerk@upperdeverills.co.uk
END:VEVENT
BEGIN:VEVENT
DTSTART;TZID=Europe/London:20200508T200000
DTEND;TZID=Europe/London:20200508T210000
DTSTAMP:20260420T072030
CREATED:20200508T180051Z
LAST-MODIFIED:20200509T162626Z
UID:10979-1588968000-1588971600@www.upperdeverills.co.uk
SUMMARY:Pipes and bells around the village
DESCRIPTION:
URL:https://www.upperdeverills.co.uk/event/pipes-and-bells-around-the-village/
LOCATION:Kingston Deverill\, BA12 7HE\, United Kingdom
END:VEVENT
BEGIN:VEVENT
DTSTART;TZID=Europe/London:20200508T120000
DTEND;TZID=Europe/London:20200508T123000
DTSTAMP:20260420T072030
CREATED:20200509T162138Z
LAST-MODIFIED:20200509T162147Z
UID:10976-1588939200-1588941000@www.upperdeverills.co.uk
SUMMARY:VE75
DESCRIPTION:Reflections and prayer
URL:https://www.upperdeverills.co.uk/event/ve75/
LOCATION:St Mary’s church\, Kingston Deverill\, Wiltshire\, BA12 7HE\, United Kingdom
END:VEVENT
BEGIN:VEVENT
DTSTART;TZID=Europe/London:20200507T210000
DTEND;TZID=Europe/London:20200507T210000
DTSTAMP:20260420T072030
CREATED:20200427T081238Z
LAST-MODIFIED:20200427T081238Z
UID:10803-1588885200-1588885200@www.upperdeverills.co.uk
SUMMARY:Clap for Carers
DESCRIPTION:
URL:https://www.upperdeverills.co.uk/event/clap-for-carers-4/
END:VEVENT
BEGIN:VEVENT
DTSTART;TZID=Europe/London:20200430T210000
DTEND;TZID=Europe/London:20200430T210000
DTSTAMP:20260420T072030
CREATED:20200427T081211Z
LAST-MODIFIED:20200427T081211Z
UID:10800-1588280400-1588280400@www.upperdeverills.co.uk
SUMMARY:Clap for Carers
DESCRIPTION:
URL:https://www.upperdeverills.co.uk/event/clap-for-carers-3/
END:VEVENT
BEGIN:VEVENT
DTSTART;TZID=Europe/London:20200423T210000
DTEND;TZID=Europe/London:20200423T210000
DTSTAMP:20260420T072030
CREATED:20200423T083214Z
LAST-MODIFIED:20200423T083214Z
UID:10572-1587675600-1587675600@www.upperdeverills.co.uk
SUMMARY:Clap for carers
DESCRIPTION:
URL:https://www.upperdeverills.co.uk/event/clap-for-carers/
END:VEVENT
BEGIN:VEVENT
DTSTART;TZID=Europe/London:20200416T210000
DTEND;TZID=Europe/London:20200416T210000
DTSTAMP:20260420T072030
CREATED:20200415T090008Z
LAST-MODIFIED:20200415T090008Z
UID:10015-1587070800-1587070800@www.upperdeverills.co.uk
SUMMARY:Online practice meeting
DESCRIPTION:This is an online test meeting.
URL:https://www.upperdeverills.co.uk/event/online-practice-meeting/
LOCATION:Online
CATEGORIES:Parish Council Meetings
ORGANIZER;CN="Upper Deverills Parish Council":MAILTO:clerk@upperdeverills.co.uk
END:VEVENT
BEGIN:VEVENT
DTSTART;TZID=Europe/London:20260420T072030
DTEND;TZID=Europe/London:20260420T072030
DTSTAMP:20260420T072030
CREATED:20240322T104753Z
LAST-MODIFIED:20250326T142454Z
UID:19641-0-0@www.upperdeverills.co.uk
SUMMARY:Annual Meeting of the Parish
DESCRIPTION:Meetings are held in the Upper Deverills Village Hall. Members of the public are welcome to attend.
URL:https://www.upperdeverills.co.uk/event/annual-parish-meeting-2/
LOCATION:Village Hall
CATEGORIES:General
ORGANIZER;CN="Upper Deverills Parish Council":MAILTO:clerk@upperdeverills.co.uk
END:VEVENT
BEGIN:VEVENT
DTSTART;TZID=Europe/London:20260420T072030
DTEND;TZID=Europe/London:20260420T072030
DTSTAMP:20260420T072030
CREATED:20230920T144633Z
LAST-MODIFIED:20230920T144633Z
UID:18968-0-0@www.upperdeverills.co.uk
SUMMARY:Parish Council meeting
DESCRIPTION:Meetings are held in the Upper Deverills Village Hall. Members of the public are welcome to attend.
URL:https://www.upperdeverills.co.uk/event/parish-council-meeting-19/
LOCATION:Village Hall
CATEGORIES:Parish Council Meetings
ORGANIZER;CN="Upper Deverills Parish Council":MAILTO:clerk@upperdeverills.co.uk
END:VEVENT
END:VCALENDAR