BEGIN:VCALENDAR
VERSION:2.0
PRODID:-//Upper Deverills - ECPv6.15.18//NONSGML v1.0//EN
CALSCALE:GREGORIAN
METHOD:PUBLISH
X-WR-CALNAME:Upper Deverills
X-ORIGINAL-URL:https://www.upperdeverills.co.uk
X-WR-CALDESC:Events for Upper Deverills
REFRESH-INTERVAL;VALUE=DURATION:PT1H
X-Robots-Tag:noindex
X-PUBLISHED-TTL:PT1H
BEGIN:VTIMEZONE
TZID:Europe/London
BEGIN:DAYLIGHT
TZOFFSETFROM:+0000
TZOFFSETTO:+0100
TZNAME:BST
DTSTART:20190331T010000
END:DAYLIGHT
BEGIN:STANDARD
TZOFFSETFROM:+0100
TZOFFSETTO:+0000
TZNAME:GMT
DTSTART:20191027T010000
END:STANDARD
BEGIN:DAYLIGHT
TZOFFSETFROM:+0000
TZOFFSETTO:+0100
TZNAME:BST
DTSTART:20200329T010000
END:DAYLIGHT
BEGIN:STANDARD
TZOFFSETFROM:+0100
TZOFFSETTO:+0000
TZNAME:GMT
DTSTART:20201025T010000
END:STANDARD
BEGIN:DAYLIGHT
TZOFFSETFROM:+0000
TZOFFSETTO:+0100
TZNAME:BST
DTSTART:20210328T010000
END:DAYLIGHT
BEGIN:STANDARD
TZOFFSETFROM:+0100
TZOFFSETTO:+0000
TZNAME:GMT
DTSTART:20211031T010000
END:STANDARD
BEGIN:DAYLIGHT
TZOFFSETFROM:+0000
TZOFFSETTO:+0100
TZNAME:BST
DTSTART:20220327T010000
END:DAYLIGHT
BEGIN:STANDARD
TZOFFSETFROM:+0100
TZOFFSETTO:+0000
TZNAME:GMT
DTSTART:20221030T010000
END:STANDARD
END:VTIMEZONE
BEGIN:VEVENT
DTSTART;TZID=Europe/London:20211218T153000
DTEND;TZID=Europe/London:20211218T170000
DTSTAMP:20260420T071355
CREATED:20210525T115744Z
LAST-MODIFIED:20211218T152330Z
UID:14842-1639841400-1639846800@www.upperdeverills.co.uk
SUMMARY:Upper Deverills Children's Christmas Party
DESCRIPTION:
URL:https://www.upperdeverills.co.uk/event/upper-deverills-childrens-christmas-party/
LOCATION:Village Hall
CATEGORIES:Village Hall
END:VEVENT
BEGIN:VEVENT
DTSTART;TZID=Europe/London:20211208T103000
DTEND;TZID=Europe/London:20211208T120000
DTSTAMP:20260420T071355
CREATED:20211126T172950Z
LAST-MODIFIED:20211126T172950Z
UID:15802-1638959400-1638964800@www.upperdeverills.co.uk
SUMMARY:Community Coffee Morning
DESCRIPTION:£2 Everyone welcome so please join us. Call Judy 844385 if you require transport.
URL:https://www.upperdeverills.co.uk/event/community-coffee-morning-4/
LOCATION:The George Inn\, Longbridge Deverill
END:VEVENT
BEGIN:VEVENT
DTSTART;TZID=Europe/London:20211204T103000
DTEND;TZID=Europe/London:20211204T150000
DTSTAMP:20260420T071355
CREATED:20211126T172713Z
LAST-MODIFIED:20211126T172807Z
UID:15799-1638613800-1638630000@www.upperdeverills.co.uk
SUMMARY:Christmas Fair
DESCRIPTION:For all your Christmas produce\, gifts\, cards\, stocking-fillers\, Christmas wreaths\, hampers\, decorations and much more. Light lunch\, tea\, coffee\, delicious cakes & biscuits available. Local crafters\, makers\, artists\, potters\, jewellers and cooks If you would like to run a stall or contribute items for sale please contact Gillian Flint (844507) or Val Spinks (845186). Stalls & sales booked on a profit share basis for Village Hall Fund
URL:https://www.upperdeverills.co.uk/event/christmas-fair/
LOCATION:Village Hall
END:VEVENT
BEGIN:VEVENT
DTSTART;TZID=Europe/London:20211126T180000
DTEND;TZID=Europe/London:20211126T230000
DTSTAMP:20260420T071355
CREATED:20210525T115654Z
LAST-MODIFIED:20210525T115654Z
UID:14839-1637949600-1637967600@www.upperdeverills.co.uk
SUMMARY:Upper Deverills Pub Night & chilli con carne
DESCRIPTION:
URL:https://www.upperdeverills.co.uk/event/upper-deverills-pub-night-chilli-con-carne-3/
LOCATION:Village Hall
CATEGORIES:Village Hall
END:VEVENT
BEGIN:VEVENT
DTSTART;TZID=Europe/London:20211119T190000
DTEND;TZID=Europe/London:20211119T213000
DTSTAMP:20260420T071355
CREATED:20210820T141949Z
LAST-MODIFIED:20211101T162632Z
UID:15301-1637348400-1637357400@www.upperdeverills.co.uk
SUMMARY:An evening of monologues
DESCRIPTION:Monologues and music. Bring your own refreshments. Donations on the night to raise funds for the village hall. If you would like to come please contact Kevin McBride: \nudvhtreasurer@gmail.com | 01985 840268
URL:https://www.upperdeverills.co.uk/event/an-evening-of-monlogues/
LOCATION:Village Hall
CATEGORIES:Village Hall
END:VEVENT
BEGIN:VEVENT
DTSTART;TZID=Europe/London:20211114T120000
DTEND;TZID=Europe/London:20211114T140000
DTSTAMP:20260420T071355
CREATED:20210525T115550Z
LAST-MODIFIED:20211101T162243Z
UID:14836-1636891200-1636898400@www.upperdeverills.co.uk
SUMMARY:Remembrance Sunday Curry Lunch
DESCRIPTION:To book please contact Caroline Davies before Sunday 7th November: \ncarolinedavies096@btinternet.com | 01985 845335 | 07813 312352
URL:https://www.upperdeverills.co.uk/event/remembrance-sunday-curry-lunch/
LOCATION:Village Hall
CATEGORIES:Village Hall
END:VEVENT
BEGIN:VEVENT
DTSTART;TZID=Europe/London:20211112T193000
DTEND;TZID=Europe/London:20211112T213000
DTSTAMP:20260420T071355
CREATED:20210525T115449Z
LAST-MODIFIED:20210525T115449Z
UID:14833-1636745400-1636752600@www.upperdeverills.co.uk
SUMMARY:Upper Deverills Quiz Night & bread and cheese
DESCRIPTION:
URL:https://www.upperdeverills.co.uk/event/upper-deverills-quiz-night-bread-and-cheese/
LOCATION:Village Hall
CATEGORIES:Village Hall
END:VEVENT
BEGIN:VEVENT
DTSTART;TZID=Europe/London:20211110T190000
DTEND;TZID=Europe/London:20211110T210000
DTSTAMP:20260420T071355
CREATED:20210820T141838Z
LAST-MODIFIED:20210820T142258Z
UID:15298-1636570800-1636578000@www.upperdeverills.co.uk
SUMMARY:Parish Council meeting
DESCRIPTION:
URL:https://www.upperdeverills.co.uk/event/parish-council-meeting-9/
LOCATION:Village Hall
CATEGORIES:Parish Council Meetings
ORGANIZER;CN="Upper Deverills Parish Council":MAILTO:clerk@upperdeverills.co.uk
END:VEVENT
BEGIN:VEVENT
DTSTART;TZID=Europe/London:20211110T173000
DTEND;TZID=Europe/London:20211110T190000
DTSTAMP:20260420T071355
CREATED:20210902T092151Z
LAST-MODIFIED:20211028T121918Z
UID:15431-1636565400-1636570800@www.upperdeverills.co.uk
SUMMARY:Traffic Forum - POSTPONED
DESCRIPTION:Open forum hosted by the Parish Council for residents of the Upper Deverills to air their views and suggestions regarding traffic volume and speeding in the upper valley. This event has been postponed to the new year. Once a date has been decided it will be posted here.
URL:https://www.upperdeverills.co.uk/event/traffic-forum/
LOCATION:Village Hall
CATEGORIES:Parish Council Meetings
ORGANIZER;CN="Upper Deverills Parish Council":MAILTO:clerk@upperdeverills.co.uk
END:VEVENT
BEGIN:VEVENT
DTSTART;TZID=Europe/London:20211029T190000
DTEND;TZID=Europe/London:20211030T000000
DTSTAMP:20260420T071355
CREATED:20210525T115325Z
LAST-MODIFIED:20211028T121705Z
UID:14830-1635534000-1635552000@www.upperdeverills.co.uk
SUMMARY:Upper Deverills Pub Night & chilli con carne - CANCELLED
DESCRIPTION:Unfortunately the pub night on 29 October has been cancelled
URL:https://www.upperdeverills.co.uk/event/upper-deverills-pub-night-chilli-con-carne-2/
LOCATION:Village Hall
CATEGORIES:Village Hall
END:VEVENT
BEGIN:VEVENT
DTSTART;TZID=Europe/London:20211002T200000
DTEND;TZID=Europe/London:20211002T223000
DTSTAMP:20260420T071355
CREATED:20210820T141720Z
LAST-MODIFIED:20210820T142318Z
UID:15293-1633204800-1633213800@www.upperdeverills.co.uk
SUMMARY:Folk Music concert
DESCRIPTION:
URL:https://www.upperdeverills.co.uk/event/folk-music-concert/
LOCATION:Brixton Deverill church
CATEGORIES:General
END:VEVENT
BEGIN:VEVENT
DTSTART;TZID=Europe/London:20210924T190000
DTEND;TZID=Europe/London:20210925T000000
DTSTAMP:20260420T071355
CREATED:20210525T115225Z
LAST-MODIFIED:20210525T115225Z
UID:14827-1632510000-1632528000@www.upperdeverills.co.uk
SUMMARY:Upper Deverills Pub Night & Chilli con carne
DESCRIPTION:
URL:https://www.upperdeverills.co.uk/event/upper-deverills-pub-night-chilli-con-carne/
LOCATION:Village Hall
CATEGORIES:Village Hall
END:VEVENT
BEGIN:VEVENT
DTSTART;TZID=Europe/London:20210916T210000
DTEND;TZID=Europe/London:20210916T230000
DTSTAMP:20260420T071355
CREATED:20210820T141450Z
LAST-MODIFIED:20210820T142358Z
UID:15289-1631826000-1631833200@www.upperdeverills.co.uk
SUMMARY:Farrant Singers concert
DESCRIPTION:
URL:https://www.upperdeverills.co.uk/event/farrant-singers-concert/
LOCATION:St Mary’s church\, Kingston Deverill\, Wiltshire\, BA12 7HE\, United Kingdom
CATEGORIES:General
END:VEVENT
BEGIN:VEVENT
DTSTART;TZID=Europe/London:20210915T113000
DTEND;TZID=Europe/London:20210915T130000
DTSTAMP:20260420T071355
CREATED:20210820T141344Z
LAST-MODIFIED:20210820T142413Z
UID:15285-1631705400-1631710800@www.upperdeverills.co.uk
SUMMARY:Community Coffee Morning
DESCRIPTION:The monthly coffee morning is for everyone in the valley of all ages.
URL:https://www.upperdeverills.co.uk/event/community-coffee-morning-3/
LOCATION:The George Inn\, Longbridge Deverill
CATEGORIES:General
END:VEVENT
BEGIN:VEVENT
DTSTART;TZID=Europe/London:20210911T200000
DTEND;TZID=Europe/London:20210911T220000
DTSTAMP:20260420T071355
CREATED:20210525T115103Z
LAST-MODIFIED:20210525T115103Z
UID:14824-1631390400-1631397600@www.upperdeverills.co.uk
SUMMARY:Upper Deverills Autumn Feast
DESCRIPTION:
URL:https://www.upperdeverills.co.uk/event/upper-deverills-autumn-feast/
LOCATION:Village Hall
CATEGORIES:Village Hall
END:VEVENT
BEGIN:VEVENT
DTSTART;TZID=Europe/London:20210901T200000
DTEND;TZID=Europe/London:20210901T220000
DTSTAMP:20260420T071355
CREATED:20210820T141054Z
LAST-MODIFIED:20210820T142431Z
UID:15282-1630526400-1630533600@www.upperdeverills.co.uk
SUMMARY:Parish Council meeting
DESCRIPTION:
URL:https://www.upperdeverills.co.uk/event/parish-council-meeting-7/
LOCATION:Village Hall
CATEGORIES:Parish Council Meetings
ORGANIZER;CN="Upper Deverills Parish Council":MAILTO:clerk@upperdeverills.co.uk
END:VEVENT
BEGIN:VEVENT
DTSTART;TZID=Europe/London:20210827T190000
DTEND;TZID=Europe/London:20210828T000000
DTSTAMP:20260420T071355
CREATED:20210525T115005Z
LAST-MODIFIED:20210525T120327Z
UID:14821-1630090800-1630108800@www.upperdeverills.co.uk
SUMMARY:Upper Deverills Pub Night & BBQ
DESCRIPTION:
URL:https://www.upperdeverills.co.uk/event/upper-deverills-pub-night-bbq-2/
LOCATION:Village Hall
CATEGORIES:Village Hall
END:VEVENT
BEGIN:VEVENT
DTSTART;TZID=Europe/London:20210821T150000
DTEND;TZID=Europe/London:20210821T180000
DTSTAMP:20260420T071355
CREATED:20210525T114755Z
LAST-MODIFIED:20210525T120042Z
UID:14818-1629558000-1629568800@www.upperdeverills.co.uk
SUMMARY:Upper Deverills Summer Fete and Flower Show
DESCRIPTION:
URL:https://www.upperdeverills.co.uk/event/upper-deverills-summer-fete-and-flower-show/
LOCATION:Village Hall
CATEGORIES:Village Hall
END:VEVENT
BEGIN:VEVENT
DTSTART;TZID=Europe/London:20210730T190000
DTEND;TZID=Europe/London:20210731T000000
DTSTAMP:20260420T071355
CREATED:20210525T114659Z
LAST-MODIFIED:20210525T114659Z
UID:14815-1627671600-1627689600@www.upperdeverills.co.uk
SUMMARY:Upper Deverills Pub Night & BBQ
DESCRIPTION:
URL:https://www.upperdeverills.co.uk/event/upper-deverills-pub-night-bbq/
LOCATION:Village Hall
CATEGORIES:Village Hall
END:VEVENT
BEGIN:VEVENT
DTSTART;TZID=Europe/London:20210717T190000
DTEND;TZID=Europe/London:20210717T210000
DTSTAMP:20260420T071355
CREATED:20210525T114559Z
LAST-MODIFIED:20210525T114559Z
UID:14812-1626548400-1626555600@www.upperdeverills.co.uk
SUMMARY:Upper Deverills Duck Race & BBQ
DESCRIPTION:
URL:https://www.upperdeverills.co.uk/event/upper-deverills-duck-race-bbq/
LOCATION:Village Hall
CATEGORIES:Village Hall
END:VEVENT
BEGIN:VEVENT
DTSTART;TZID=Europe/London:20210714T200000
DTEND;TZID=Europe/London:20210714T220000
DTSTAMP:20260420T071355
CREATED:20210615T204659Z
LAST-MODIFIED:20210615T204812Z
UID:14904-1626292800-1626300000@www.upperdeverills.co.uk
SUMMARY:Parish Council meeting
DESCRIPTION:Meetings are held in Upper Deverills Village Hall. Members of the public are welcome to attend.
URL:https://www.upperdeverills.co.uk/event/parish-council-meeting-6/
LOCATION:Village Hall
CATEGORIES:Parish Council Meetings
ORGANIZER;CN="Upper Deverills Parish Council":MAILTO:clerk@upperdeverills.co.uk
END:VEVENT
BEGIN:VEVENT
DTSTART;TZID=Europe/London:20210625T190000
DTEND;TZID=Europe/London:20210626T000000
DTSTAMP:20260420T071355
CREATED:20210525T114416Z
LAST-MODIFIED:20210525T120143Z
UID:14809-1624647600-1624665600@www.upperdeverills.co.uk
SUMMARY:Upper Deverills Pub Night with Rounders & BBQ
DESCRIPTION:
URL:https://www.upperdeverills.co.uk/event/upper-deverills-pub-night-with-rounders-bbq/
LOCATION:Village Hall
CATEGORIES:Village Hall
END:VEVENT
BEGIN:VEVENT
DTSTART;TZID=Europe/London:20210330T190000
DTEND;TZID=Europe/London:20210330T190000
DTSTAMP:20260420T071355
CREATED:20210325T204320Z
LAST-MODIFIED:20210325T204320Z
UID:14664-1617130800-1617130800@www.upperdeverills.co.uk
SUMMARY:Parish Council Meeting
DESCRIPTION:Meetings are currently held online. Members of the public are welcome to attend.
URL:https://www.upperdeverills.co.uk/event/parish-council-meeting-8/
LOCATION:Online
CATEGORIES:Parish Council Meetings
ORGANIZER;CN="Upper Deverills Parish Council":MAILTO:clerk@upperdeverills.co.uk
END:VEVENT
BEGIN:VEVENT
DTSTART;TZID=Europe/London:20210320T100000
DTEND;TZID=Europe/London:20210321T140000
DTSTAMP:20260420T071355
CREATED:20200922T153437Z
LAST-MODIFIED:20210217T114433Z
UID:13370-1616234400-1616335200@www.upperdeverills.co.uk
SUMMARY:Litter pick - if Covid restrictions allow
DESCRIPTION:If Covid restrictions allow\, there will be no gathering in the village hall\, rather the equipment will be available at The Bell House\, Kingston Deverill\, for collection by individuals who can carry out the picking at a convenient time for them. All equipment will be clean and Covid-safe. For further information contact cllrflint@upperdeverills.co.uk.
URL:https://www.upperdeverills.co.uk/event/litter-pick/
LOCATION:All villages
CATEGORIES:General
ORGANIZER;CN="Gillian Flint":MAILTO:cllrflint@upperdeverills.co.uk
END:VEVENT
BEGIN:VEVENT
DTSTART;TZID=Europe/London:20210310T190000
DTEND;TZID=Europe/London:20210310T210000
DTSTAMP:20260420T071355
CREATED:20200924T123703Z
LAST-MODIFIED:20200924T123703Z
UID:13431-1615402800-1615410000@www.upperdeverills.co.uk
SUMMARY:Parish Council meeting
DESCRIPTION:
URL:https://www.upperdeverills.co.uk/event/parish-council-meeting-5/
LOCATION:Village Hall
ORGANIZER;CN="Upper Deverills Parish Council":MAILTO:clerk@upperdeverills.co.uk
END:VEVENT
BEGIN:VEVENT
DTSTART;TZID=Europe/London:20210113T190000
DTEND;TZID=Europe/London:20210113T210000
DTSTAMP:20260420T071355
CREATED:20200924T123602Z
LAST-MODIFIED:20201130T163316Z
UID:13428-1610564400-1610571600@www.upperdeverills.co.uk
SUMMARY:Parish Council meeting
DESCRIPTION:The meeting will be held online. Members of the public are welcome to attend. The joining link will be: https://us02web.zoom.us/j/86515993268 \n 
URL:https://www.upperdeverills.co.uk/event/parish-council-meeting-4/
LOCATION:Online
ORGANIZER;CN="Upper Deverills Parish Council":MAILTO:clerk@upperdeverills.co.uk
END:VEVENT
BEGIN:VEVENT
DTSTART;TZID=Europe/London:20201220T180000
DTEND;TZID=Europe/London:20201220T190000
DTSTAMP:20260420T071355
CREATED:20200823T122251Z
LAST-MODIFIED:20201210T105539Z
UID:12849-1608487200-1608490800@www.upperdeverills.co.uk
SUMMARY:Community Carol Service
DESCRIPTION:Outdoor carol service at The George Inn field\, Longbridge Deverill
URL:https://www.upperdeverills.co.uk/event/village-carol-service/
LOCATION:The George Inn\, Longbridge Deverill
CATEGORIES:Village Hall
END:VEVENT
BEGIN:VEVENT
DTSTART;TZID=Europe/London:20201219T160000
DTEND;TZID=Europe/London:20201219T173000
DTSTAMP:20260420T071355
CREATED:20200823T122142Z
LAST-MODIFIED:20201210T110020Z
UID:12846-1608393600-1608399000@www.upperdeverills.co.uk
SUMMARY:Village Hall Children's Christmas Party
DESCRIPTION:Subject to prevailing restrictions
URL:https://www.upperdeverills.co.uk/event/village-hall-christmas-party/
LOCATION:Village Hall
CATEGORIES:Village Hall
END:VEVENT
BEGIN:VEVENT
DTSTART;TZID=Europe/London:20201211T193000
DTEND;TZID=Europe/London:20201211T213000
DTSTAMP:20260420T071355
CREATED:20201116T123446Z
LAST-MODIFIED:20201210T110212Z
UID:13874-1607715000-1607722200@www.upperdeverills.co.uk
SUMMARY:Upper Deverills Village Hall Quiz Night – postponed
DESCRIPTION:We have a great quiz all ready to go but\, unfortunately\, we will not be able to hold it on Friday 11 December because we will all still be in Tier 2. However\, we are determined to hold the quiz just as soon as we are allowed. In practice this is likely to mean the very first Friday after we move to Tier 1\, whenever that might be.\nIf you are interested in taking part in the quiz\, please send an email to upperdeverillsvillagehall@gmail.com. We will add your name to the quiz mailing list. Then we can get in touch with you directly when we have set the date.
URL:https://www.upperdeverills.co.uk/event/quiz-night/
END:VEVENT
BEGIN:VEVENT
DTSTART;TZID=Europe/London:20201111T190000
DTEND;TZID=Europe/London:20201111T190000
DTSTAMP:20260420T071355
CREATED:20200518T180206Z
LAST-MODIFIED:20201014T123050Z
UID:11190-1605121200-1605121200@www.upperdeverills.co.uk
SUMMARY:Parish Council meeting
DESCRIPTION:The meeting will be held online. Members of the public are welcome to attend. The joining link will be: https://us02web.zoom.us/j/82863355851?pwd=aHhNbWx5S3NWZU1BQzdmMGZPak9yZz09
URL:https://www.upperdeverills.co.uk/event/parish-council-meeting/
LOCATION:Possibly online
CATEGORIES:Parish Council Meetings
ORGANIZER;CN="Upper Deverills Parish Council":MAILTO:clerk@upperdeverills.co.uk
END:VEVENT
END:VCALENDAR