BEGIN:VCALENDAR
VERSION:2.0
PRODID:-//Upper Deverills - ECPv6.15.18//NONSGML v1.0//EN
CALSCALE:GREGORIAN
METHOD:PUBLISH
X-ORIGINAL-URL:https://www.upperdeverills.co.uk
X-WR-CALDESC:Events for Upper Deverills
REFRESH-INTERVAL;VALUE=DURATION:PT1H
X-Robots-Tag:noindex
X-PUBLISHED-TTL:PT1H
BEGIN:VTIMEZONE
TZID:Europe/London
BEGIN:DAYLIGHT
TZOFFSETFROM:+0000
TZOFFSETTO:+0100
TZNAME:BST
DTSTART:20230326T010000
END:DAYLIGHT
BEGIN:STANDARD
TZOFFSETFROM:+0100
TZOFFSETTO:+0000
TZNAME:GMT
DTSTART:20231029T010000
END:STANDARD
BEGIN:DAYLIGHT
TZOFFSETFROM:+0000
TZOFFSETTO:+0100
TZNAME:BST
DTSTART:20240331T010000
END:DAYLIGHT
BEGIN:STANDARD
TZOFFSETFROM:+0100
TZOFFSETTO:+0000
TZNAME:GMT
DTSTART:20241027T010000
END:STANDARD
BEGIN:DAYLIGHT
TZOFFSETFROM:+0000
TZOFFSETTO:+0100
TZNAME:BST
DTSTART:20250330T010000
END:DAYLIGHT
BEGIN:STANDARD
TZOFFSETFROM:+0100
TZOFFSETTO:+0000
TZNAME:GMT
DTSTART:20251026T010000
END:STANDARD
END:VTIMEZONE
BEGIN:VEVENT
DTSTART;TZID=Europe/London:20241222T180000
DTEND;TZID=Europe/London:20241222T193000
DTSTAMP:20260419T160818
CREATED:20240217T173446Z
LAST-MODIFIED:20240217T173446Z
UID:19452-1734890400-1734895800@www.upperdeverills.co.uk
SUMMARY:Christmas Carol Service
DESCRIPTION:
URL:https://www.upperdeverills.co.uk/event/christmas-carol-service/
LOCATION:St Mary’s church\, Kingston Deverill\, Wiltshire\, BA12 7HE\, United Kingdom
CATEGORIES:Village Hall
END:VEVENT
END:VCALENDAR